BEGIN:VCALENDAR
VERSION:2.0
PRODID:-//RCCG (Restoration Assembly) Albany - ECPv6.15.20//NONSGML v1.0//EN
CALSCALE:GREGORIAN
METHOD:PUBLISH
X-ORIGINAL-URL:https://www.rccgalbanyny.org
X-WR-CALDESC:Events for RCCG (Restoration Assembly) Albany
REFRESH-INTERVAL;VALUE=DURATION:PT1H
X-Robots-Tag:noindex
X-PUBLISHED-TTL:PT1H
BEGIN:VTIMEZONE
TZID:America/Halifax
BEGIN:DAYLIGHT
TZOFFSETFROM:-0400
TZOFFSETTO:-0300
TZNAME:ADT
DTSTART:20240310T060000
END:DAYLIGHT
BEGIN:STANDARD
TZOFFSETFROM:-0300
TZOFFSETTO:-0400
TZNAME:AST
DTSTART:20241103T050000
END:STANDARD
BEGIN:DAYLIGHT
TZOFFSETFROM:-0400
TZOFFSETTO:-0300
TZNAME:ADT
DTSTART:20250309T060000
END:DAYLIGHT
BEGIN:STANDARD
TZOFFSETFROM:-0300
TZOFFSETTO:-0400
TZNAME:AST
DTSTART:20251102T050000
END:STANDARD
BEGIN:DAYLIGHT
TZOFFSETFROM:-0400
TZOFFSETTO:-0300
TZNAME:ADT
DTSTART:20260308T060000
END:DAYLIGHT
BEGIN:STANDARD
TZOFFSETFROM:-0300
TZOFFSETTO:-0400
TZNAME:AST
DTSTART:20261101T050000
END:STANDARD
END:VTIMEZONE
BEGIN:VEVENT
DTSTART;VALUE=DATE:20251206
DTEND;VALUE=DATE:20251207
DTSTAMP:20260423T145257
CREATED:20250514T170934Z
LAST-MODIFIED:20250514T170934Z
UID:155975-1764979200-1765065599@www.rccgalbanyny.org
SUMMARY:21st Year Thanksgiving Celebration
DESCRIPTION:
URL:https://www.rccgalbanyny.org/event/21st-year-thanksgiving-celebration/
LOCATION:Church Auditorium\, 10\, Western Avenue\, Albany NY 12203\, New York\, United States
END:VEVENT
BEGIN:VEVENT
DTSTART;TZID=America/Halifax:20251112T000000
DTEND;TZID=America/Halifax:20251115T210000
DTSTAMP:20260423T145257
CREATED:20250514T170830Z
LAST-MODIFIED:20250514T170830Z
UID:155973-1762905600-1763240400@www.rccgalbanyny.org
SUMMARY:PWF Conference
DESCRIPTION:
URL:https://www.rccgalbanyny.org/event/pwf-conference/
LOCATION:Church Auditorium\, 10\, Western Avenue\, Albany NY 12203\, New York\, United States
END:VEVENT
BEGIN:VEVENT
DTSTART;VALUE=DATE:20251019
DTEND;VALUE=DATE:20251020
DTSTAMP:20260423T145257
CREATED:20250514T170629Z
LAST-MODIFIED:20250514T171143Z
UID:155969-1760832000-1760918399@www.rccgalbanyny.org
SUMMARY:Hosanna Experience
DESCRIPTION:
URL:https://www.rccgalbanyny.org/event/hosanna-experience/
LOCATION:Church Auditorium\, 10\, Western Avenue\, Albany NY 12203\, New York\, United States
END:VEVENT
BEGIN:VEVENT
DTSTART;VALUE=DATE:20250731
DTEND;VALUE=DATE:20250804
DTSTAMP:20260423T145257
CREATED:20250514T170718Z
LAST-MODIFIED:20250514T171130Z
UID:155971-1753920000-1754265599@www.rccgalbanyny.org
SUMMARY:RCCG WORLD WIDE MINISTERS’ CONFERENCE
DESCRIPTION:
URL:https://www.rccgalbanyny.org/event/rccg-world-wide-ministers-conference/
LOCATION:Church Auditorium\, 10\, Western Avenue\, Albany NY 12203\, New York\, United States
END:VEVENT
BEGIN:VEVENT
DTSTART;VALUE=DATE:20250726
DTEND;VALUE=DATE:20250727
DTSTAMP:20260423T145257
CREATED:20250514T170546Z
LAST-MODIFIED:20250514T171117Z
UID:155967-1753488000-1753574399@www.rccgalbanyny.org
SUMMARY:Community Barbecue
DESCRIPTION:
URL:https://www.rccgalbanyny.org/event/community-barbecue/
LOCATION:Church Auditorium\, 10\, Western Avenue\, Albany NY 12203\, New York\, United States
END:VEVENT
BEGIN:VEVENT
DTSTART;VALUE=DATE:20250714
DTEND;VALUE=DATE:20250719
DTSTAMP:20260423T145257
CREATED:20250514T170442Z
LAST-MODIFIED:20250514T171104Z
UID:155965-1752451200-1752883199@www.rccgalbanyny.org
SUMMARY:Second phase of 5 Days of Divine Help
DESCRIPTION:
URL:https://www.rccgalbanyny.org/event/second-phase-of-5-days-of-divine-help/
LOCATION:Church Auditorium\, 10\, Western Avenue\, Albany NY 12203\, New York\, United States
END:VEVENT
BEGIN:VEVENT
DTSTART;VALUE=DATE:20250618
DTEND;VALUE=DATE:20250621
DTSTAMP:20260423T145257
CREATED:20250514T170320Z
LAST-MODIFIED:20250514T171049Z
UID:155963-1750204800-1750463999@www.rccgalbanyny.org
SUMMARY:RCCG The Americas Convention
DESCRIPTION:
URL:https://www.rccgalbanyny.org/event/rccg-the-americas-convention/
LOCATION:Church Auditorium\, 10\, Western Avenue\, Albany NY 12203\, New York\, United States
END:VEVENT
BEGIN:VEVENT
DTSTART;TZID=America/Halifax:20250513T190000
DTEND;TZID=America/Halifax:20250513T190000
DTSTAMP:20260423T145257
CREATED:20250507T153833Z
LAST-MODIFIED:20250507T153910Z
UID:826-1747162800-1747162800@www.rccgalbanyny.org
SUMMARY:Bible Study
DESCRIPTION:
URL:https://www.rccgalbanyny.org/event/bible-study/
LOCATION:Church Auditorium\, 10\, Western Avenue\, Albany NY 12203\, New York\, United States
ATTACH;FMTTYPE=image/jpeg:https://www.rccgalbanyny.org/wp-content/uploads/2025/04/IMG_2602.jpeg
END:VEVENT
BEGIN:VEVENT
DTSTART;TZID=America/Halifax:20250511T100000
DTEND;TZID=America/Halifax:20250511T123000
DTSTAMP:20260423T145257
CREATED:20241020T235957Z
LAST-MODIFIED:20250507T153353Z
UID:495-1746957600-1746966600@www.rccgalbanyny.org
SUMMARY:Sunday Worship Experience
DESCRIPTION:
URL:https://www.rccgalbanyny.org/event/sunday-worship-experience/
LOCATION:Church Auditorium\, 10\, Western Avenue\, Albany NY 12203\, New York\, United States
ATTACH;FMTTYPE=image/jpeg:https://www.rccgalbanyny.org/wp-content/uploads/2025/04/IMG_2601.jpeg
END:VEVENT
BEGIN:VEVENT
DTSTART;TZID=America/Halifax:20250508T190000
DTEND;TZID=America/Halifax:20250508T190000
DTSTAMP:20260423T145257
CREATED:20250507T154000Z
LAST-MODIFIED:20250507T154000Z
UID:829-1746730800-1746730800@www.rccgalbanyny.org
SUMMARY:Prayer Service
DESCRIPTION:
URL:https://www.rccgalbanyny.org/event/prayer-service/
LOCATION:Church Auditorium\, 10\, Western Avenue\, Albany NY 12203\, New York\, United States
ATTACH;FMTTYPE=image/jpeg:https://www.rccgalbanyny.org/wp-content/uploads/2025/04/IMG_2600.jpeg
END:VEVENT
END:VCALENDAR